BEGIN:VCALENDAR
VERSION:2.0
PRODID:-//Agencia Actívate - ECPv6.8.3//NONSGML v1.0//EN
CALSCALE:GREGORIAN
METHOD:PUBLISH
X-ORIGINAL-URL:https://agenciaactivate.cl
X-WR-CALDESC:Eventos para Agencia Actívate
REFRESH-INTERVAL;VALUE=DURATION:PT1H
X-Robots-Tag:noindex
X-PUBLISHED-TTL:PT1H
BEGIN:VTIMEZONE
TZID:UTC
BEGIN:STANDARD
TZOFFSETFROM:+0000
TZOFFSETTO:+0000
TZNAME:UTC
DTSTART:20160101T000000
END:STANDARD
TZID:Asia/Dubai
BEGIN:STANDARD
TZOFFSETFROM:+0400
TZOFFSETTO:+0400
TZNAME:+04
DTSTART:20240101T000000
END:STANDARD
END:VTIMEZONE
BEGIN:VEVENT
DTSTART;VALUE=DATE:20250111
DTEND;VALUE=DATE:20250113
DTSTAMP:20260420T011639
CREATED:20250113T043652Z
LAST-MODIFIED:20250128T223948Z
UID:14183-1736553600-1736726399@agenciaactivate.cl
SUMMARY:Inauguración Domo Padel Arica
DESCRIPTION:Inauguración de Domo Pádel Arica: Un Evento con el sello de Calidad de Agencia Actívate!\nEl pasado 11 y 12 de Enero\, Arica vivió un momento inolvidable con la inauguración del Domo Pádel Arica\, un espacio diseñado para los amantes de este apasionante deporte. Este recinto no solo se destaca por su arquitectura moderna\, sino también por albergar las únicas canchas de pádel certificadas en la región\, convirtiéndose en un referente para deportistas y aficionados.El evento contó con la participación de figuras internacionales del pádel\, como Miguel Lamperti\, Manu Gallone y Axel Guevara\, quienes ofrecieron exhibiciones impresionantes\, dejando al público maravillado con su talento. Además\, el relato estuvo a cargo del reconocido periodista deportivo Ernesto Gallardo\, quien aportó profesionalismo y entusiasmo a cada momento. \nUn Evento con Sello de Excelencia\nLa inauguración fue patrocinada por Inter Clínica San José\, una institución comprometida con el desarrollo deportivo de la región. Agencia Actívate tuvo el honor de gestionar el equipo de anfitriones\, quienes garantizaron una experiencia impecable para los asistentes\, desde la recepción hasta la organización de las actividades protocolares.Nos enorgullece ser parte de iniciativas que fortalecen el deporte y la conexión con nuestra comunidad. Domo Pádel Arica ya es un símbolo de innovación y calidad en la región\, y estamos felices de haber contribuido al éxito de su inauguración. \nActividades Destacadas y Ambiente Único\nEl programa incluyó exhibiciones deportivas\, recorridos por las instalaciones y espacios interactivos donde los asistentes pudieron conocer más sobre el pádel. Además\, el ambiente festivo\, acompañado de música y gastronomía local\, convirtió el evento en una experiencia inolvidable para toda la comunidad. \nUn Impulso al Deporte en Arica\nLa apertura del Domo Pádel Arica no solo marca un hito en la historia deportiva de la región\, sino que también refuerza el compromiso de instituciones locales con el desarrollo de espacios que promuevan la actividad física y la integración social \n¿Próximo evento? Contáctanos para convertirlo en un momento inolvidable con nuestro equipo de anfitriones profesionales. \n\n\n\n\n\n\n\n\n\n\n\n\n\nVer Más
URL:https://agenciaactivate.cl/event/inauguracion-domo-padel
LOCATION:Domo Padel Arica\, Valle de Azapa - Pasaje Sofía Km 1.5\, Arica\, Arica\, 1000000\, Chile
CATEGORIES:Anfitriones
ATTACH;FMTTYPE=image/jpeg:https://agenciaactivate.cl/wp-content/uploads/2025/01/DJI_0206-scaled.jpg
END:VEVENT
BEGIN:VEVENT
DTSTART;TZID=Asia/Dubai:20241113T090000
DTEND;TZID=Asia/Dubai:20241113T130000
DTSTAMP:20260420T011639
CREATED:20241226T060739Z
LAST-MODIFIED:20250128T224009Z
UID:14049-1731488400-1731502800@agenciaactivate.cl
SUMMARY:Gran Corrida - Media Maratón TPA 2024
DESCRIPTION:Agencia Actívate impulsa la Marca Cementos Bío Bío en la Media Maratón TPA 2024\nAgencia Actívate estará presente en la Media Maratón TPA 2024\, liderando las activaciones de marca para Cementos Bío Bío\, sponsor oficial del evento. Con un enfoque creativo y estratégico\, nuestro equipo diseñará experiencias dinámicas que reflejan la fuerza y el compromiso de la marca con el deporte y la comunidad. Estaremos con actividades interactivas para que los asistentes vivan de cerca la esencia de Cementos Bío Bío\, espacios visuales únicos que capturen los mejores momentos del evento y sorpresas exclusivas para participantes y público.\nEstas acciones reflejan el compromiso de Agencia Actívate por conectar marcas con las personas\, creando experiencias memorables que fortalecen su identidad.\n¡Te esperamos en la Media Maratón para vivir esta increíble jornada juntos!
URL:https://agenciaactivate.cl/event/prueba-de-creacion-de-eventos
LOCATION:Arica\, Av. Máximo Lira 389\, Arica\, Arica\, Chile
CATEGORIES:Anfitriones
ATTACH;FMTTYPE=image/jpeg:https://agenciaactivate.cl/wp-content/uploads/2024/12/IMG_4997-scaled-e1735186325731.jpg
ORGANIZER;CN="TPA - Terminal Puerto Arica":MAILTO:contacto@tpa.cl
END:VEVENT
BEGIN:VEVENT
DTSTART;VALUE=DATE:20241017
DTEND;VALUE=DATE:20241019
DTSTAMP:20260420T011639
CREATED:20250126T154758Z
LAST-MODIFIED:20250128T222820Z
UID:14443-1729123200-1729295999@agenciaactivate.cl
SUMMARY:Expo Iberia 2024
DESCRIPTION:Agencia Actívate en la Expo Iberia 2024: Conduciendo Experiencias Memorables\nLa Expo Iberia 2024 fue\, sin duda\, el escenario perfecto para destacar la colaboración entre diversas instituciones y empresas. Este evento\, considerado uno de los más importantes del año\, permitió a Agencia Actívate desempeñar un papel fundamental. De hecho\, la agencia lideró la conducción y coordinación del espacio de Casa Iberia con un equipo de anfitrionas profesionales\, quienes garantizaron una experiencia única para todos los asistentes. El espacio de Casa Iberia se transformó\, además\, en un punto de encuentro donde la innovación\, la cultura y el compromiso empresarial se unieron para ofrecer actividades dinámicas y enriquecedoras. Por lo tanto\, las anfitrionas de Agencia Actívate desempeñaron un papel crucial\, no solo guiando a los visitantes\, sino también creando un ambiente cálido y organizado que reflejó la esencia de la marca. Este esfuerzo fue clave para posicionar a Casa Iberia como un referente en la Expo. \nInterclinica San José: Compromiso con la Comunidad\nPor otro lado\, Interclínica San José destacó como colaborador principal al ofrecer prestaciones de salud gratuitas que beneficiaron a decenas de asistentes. Entre los servicios proporcionados se incluyeron evaluaciones médicas\, orientación en salud y actividades de prevención. Este gesto solidario\, sin lugar a dudas\, reafirmó el compromiso de la clínica con el bienestar de la comunidad\, lo que la posicionó como una institución cercana y responsable. \nSinergia para el Éxito\nEn conjunto\, la colaboración entre Agencia Actívate\, Casa Iberia e Interclínica San José demostró cómo la unión entre diferentes actores puede generar eventos exitosos. Cada uno aportó su experiencia y compromiso para garantizar una experiencia inolvidable a los asistentes. Por consiguiente\, este trabajo conjunto se convirtió en un modelo a seguir para futuras iniciativas. Una vez más\, Agencia Actívate confirmó su liderazgo en la organización de eventos\, destacándose por su capacidad de impulsar marcas\, servicios y colaboraciones de alto impacto. \n¿Próximo evento? Contáctanos para convertirlo en un momento inolvidable con nuestro equipo de anfitriones profesionales.
URL:https://agenciaactivate.cl/event/expo-iberia-2024
LOCATION:Casa Iberia\, Av. Santa María 2482-1\, Arica\, Arica\, 1000000\, Chile
CATEGORIES:Anfitriones
ATTACH;FMTTYPE=image/jpeg:https://agenciaactivate.cl/wp-content/uploads/2025/01/Expo-Iberia-2024-scaled.jpg
END:VEVENT
BEGIN:VEVENT
DTSTART;VALUE=DATE:20161226
DTEND;VALUE=DATE:20161231
DTSTAMP:20260420T011639
CREATED:20161226T030000Z
LAST-MODIFIED:20241208T235229Z
UID:10805-1482710400-1483142399@agenciaactivate.cl
SUMMARY:Charity Auction Software
DESCRIPTION:Cras dapibus ullamcorper dictum. Vivamus nec erat placerat felis scelerisque porttitor in ac turpis. In nec imperdiet turpis. Suspendisse quis orci ut orci pulvinar eleifend. Nulla eu mattis ipsum. Integer eget sagittis nulla. Praesent consectetur lacus et maximus eleifend. Integer non lacus dui. Mauris tortor diam\, laoreet quis commodo vitae\, sodales vel augue.| Sed rutrum\, libero non pretium tristique\, arcu mi sollicitudin ex\, quis venenatis orci tellus vel dolor. Donec gravida\, dolor ut auctor facilisis\, enim dolor pellentesque lectus\, nec vehicula nibh risus ac leo. Mauris volutpat aliquam tellus nec rhoncus. Aliquam et nibh pulvinar\, sodales nibh et\, pretium urna. Vivamus quam augue\, maximus in consequat imperdiet\, iaculis non nibh. Aliquam erat volutpat. Curabitur venenatis massa sed lacus tristique\, non auctor nisl sodales. Sed ultricies lacus ut libero faucibus fringilla. Ut nisi tellus\, posuere vel mattis nec\, convallis a metus. Nullam elementum molestie felis nec lobortis. Cras at justo eu elit semper tempor sed quis orci. In risus magna\, malesuada vel elementum ut\, finibus et nunc. \n 
URL:https://agenciaactivate.cl/event/charity-auction-software
LOCATION:Central Park\, Brooklyn\, NY 10036\, New York\, AK\, United States
CATEGORIES:Events
ATTACH;FMTTYPE=image/jpeg:https://agenciaactivate.cl/wp-content/uploads/2016/11/06.jpg
ORGANIZER;CN="Nick Sims":MAILTO:sims@example.com
END:VEVENT
BEGIN:VEVENT
DTSTART;VALUE=DATE:20161218
DTEND;VALUE=DATE:20161223
DTSTAMP:20260420T011639
CREATED:20161218T030000Z
LAST-MODIFIED:20241208T235229Z
UID:10803-1482019200-1482451199@agenciaactivate.cl
SUMMARY:Fashion Show: 10 Festival Eye Makeup Ideas
DESCRIPTION:Cras dapibus ullamcorper dictum. Vivamus nec erat placerat felis scelerisque porttitor in ac turpis. In nec imperdiet turpis. Suspendisse quis orci ut orci pulvinar eleifend. Nulla eu mattis ipsum. Integer eget sagittis nulla. Praesent consectetur lacus et maximus eleifend. Integer non lacus dui. Mauris tortor diam\, laoreet quis commodo vitae\, sodales vel augue.| Sed rutrum\, libero non pretium tristique\, arcu mi sollicitudin ex\, quis venenatis orci tellus vel dolor. Donec gravida\, dolor ut auctor facilisis\, enim dolor pellentesque lectus\, nec vehicula nibh risus ac leo. Mauris volutpat aliquam tellus nec rhoncus. Aliquam et nibh pulvinar\, sodales nibh et\, pretium urna. Vivamus quam augue\, maximus in consequat imperdiet\, iaculis non nibh. Aliquam erat volutpat. Curabitur venenatis massa sed lacus tristique\, non auctor nisl sodales. Sed ultricies lacus ut libero faucibus fringilla. Ut nisi tellus\, posuere vel mattis nec\, convallis a metus. Nullam elementum molestie felis nec lobortis. Cras at justo eu elit semper tempor sed quis orci. In risus magna\, malesuada vel elementum ut\, finibus et nunc. \n 
URL:https://agenciaactivate.cl/event/fashion-show-10-festival-eye-makeup-ideas
LOCATION:Central Park\, Brooklyn\, NY 10036\, New York\, AK\, United States
CATEGORIES:Events
ATTACH;FMTTYPE=image/jpeg:https://agenciaactivate.cl/wp-content/uploads/2016/11/05.jpg
ORGANIZER;CN="Nick Sims":MAILTO:sims@example.com
END:VEVENT
BEGIN:VEVENT
DTSTART;VALUE=DATE:20161213
DTEND;VALUE=DATE:20161218
DTSTAMP:20260420T011639
CREATED:20161213T030000Z
LAST-MODIFIED:20241208T235229Z
UID:10801-1481587200-1482019199@agenciaactivate.cl
SUMMARY:Fashion Show: Shopping Mall In Las Vegas
DESCRIPTION:Cras dapibus ullamcorper dictum. Vivamus nec erat placerat felis scelerisque porttitor in ac turpis. In nec imperdiet turpis. Suspendisse quis orci ut orci pulvinar eleifend. Nulla eu mattis ipsum. Integer eget sagittis nulla. Praesent consectetur lacus et maximus eleifend. Integer non lacus dui. Mauris tortor diam\, laoreet quis commodo vitae\, sodales vel augue.| Sed rutrum\, libero non pretium tristique\, arcu mi sollicitudin ex\, quis venenatis orci tellus vel dolor. Donec gravida\, dolor ut auctor facilisis\, enim dolor pellentesque lectus\, nec vehicula nibh risus ac leo. Mauris volutpat aliquam tellus nec rhoncus. Aliquam et nibh pulvinar\, sodales nibh et\, pretium urna. Vivamus quam augue\, maximus in consequat imperdiet\, iaculis non nibh. Aliquam erat volutpat. Curabitur venenatis massa sed lacus tristique\, non auctor nisl sodales. Sed ultricies lacus ut libero faucibus fringilla. Ut nisi tellus\, posuere vel mattis nec\, convallis a metus. Nullam elementum molestie felis nec lobortis. Cras at justo eu elit semper tempor sed quis orci. In risus magna\, malesuada vel elementum ut\, finibus et nunc. \n 
URL:https://agenciaactivate.cl/event/fashion-show-shopping-mall-in-las-vegas
LOCATION:Central Park\, Brooklyn\, NY 10036\, New York\, AK\, United States
CATEGORIES:Events
ATTACH;FMTTYPE=image/jpeg:https://agenciaactivate.cl/wp-content/uploads/2016/11/04.jpg
ORGANIZER;CN="Nick Sims":MAILTO:sims@example.com
END:VEVENT
BEGIN:VEVENT
DTSTART;VALUE=DATE:20161205
DTEND;VALUE=DATE:20161210
DTSTAMP:20260420T011639
CREATED:20161205T030000Z
LAST-MODIFIED:20241208T235229Z
UID:10800-1480896000-1481327999@agenciaactivate.cl
SUMMARY:Fashion Shows: Fashion Week\, Designer Collections
DESCRIPTION:Cras dapibus ullamcorper dictum. Vivamus nec erat placerat felis scelerisque porttitor in ac turpis. In nec imperdiet turpis. Suspendisse quis orci ut orci pulvinar eleifend. Nulla eu mattis ipsum. Integer eget sagittis nulla. Praesent consectetur lacus et maximus eleifend. Integer non lacus dui. Mauris tortor diam\, laoreet quis commodo vitae\, sodales vel augue.| Sed rutrum\, libero non pretium tristique\, arcu mi sollicitudin ex\, quis venenatis orci tellus vel dolor. Donec gravida\, dolor ut auctor facilisis\, enim dolor pellentesque lectus\, nec vehicula nibh risus ac leo. Mauris volutpat aliquam tellus nec rhoncus. Aliquam et nibh pulvinar\, sodales nibh et\, pretium urna. Vivamus quam augue\, maximus in consequat imperdiet\, iaculis non nibh. Aliquam erat volutpat. Curabitur venenatis massa sed lacus tristique\, non auctor nisl sodales. Sed ultricies lacus ut libero faucibus fringilla. Ut nisi tellus\, posuere vel mattis nec\, convallis a metus. Nullam elementum molestie felis nec lobortis. Cras at justo eu elit semper tempor sed quis orci. In risus magna\, malesuada vel elementum ut\, finibus et nunc. \n 
URL:https://agenciaactivate.cl/event/fashion-shows-fashion-week-designer-collections
LOCATION:Central Park\, Brooklyn\, NY 10036\, New York\, AK\, United States
CATEGORIES:Events
ATTACH;FMTTYPE=image/jpeg:https://agenciaactivate.cl/wp-content/uploads/2016/11/03.jpg
ORGANIZER;CN="Nick Sims":MAILTO:sims@example.com
END:VEVENT
BEGIN:VEVENT
DTSTART;VALUE=DATE:20161201
DTEND;VALUE=DATE:20161204
DTSTAMP:20260420T011639
CREATED:20161201T030000Z
LAST-MODIFIED:20241208T235229Z
UID:10792-1480550400-1480809599@agenciaactivate.cl
SUMMARY:Photoshoot at Sea
DESCRIPTION:Cras dapibus ullamcorper dictum. Vivamus nec erat placerat felis scelerisque porttitor in ac turpis. In nec imperdiet turpis. Suspendisse quis orci ut orci pulvinar eleifend. Nulla eu mattis ipsum. Integer eget sagittis nulla. Praesent consectetur lacus et maximus eleifend. Integer non lacus dui. Mauris tortor diam\, laoreet quis commodo vitae\, sodales vel augue.| Sed rutrum\, libero non pretium tristique\, arcu mi sollicitudin ex\, quis venenatis orci tellus vel dolor. Donec gravida\, dolor ut auctor facilisis\, enim dolor pellentesque lectus\, nec vehicula nibh risus ac leo. Mauris volutpat aliquam tellus nec rhoncus. Aliquam et nibh pulvinar\, sodales nibh et\, pretium urna. Vivamus quam augue\, maximus in consequat imperdiet\, iaculis non nibh. Aliquam erat volutpat. Curabitur venenatis massa sed lacus tristique\, non auctor nisl sodales. Sed ultricies lacus ut libero faucibus fringilla. Ut nisi tellus\, posuere vel mattis nec\, convallis a metus. Nullam elementum molestie felis nec lobortis. Cras at justo eu elit semper tempor sed quis orci. In risus magna\, malesuada vel elementum ut\, finibus et nunc. \n 
URL:https://agenciaactivate.cl/event/photoshoot-at-sea
LOCATION:Central Park\, Brooklyn\, NY 10036\, New York\, AK\, United States
CATEGORIES:Events
ATTACH;FMTTYPE=image/jpeg:https://agenciaactivate.cl/wp-content/uploads/2016/11/02.jpg
ORGANIZER;CN="Nick Sims":MAILTO:sims@example.com
END:VEVENT
END:VCALENDAR