BEGIN:VCALENDAR
VERSION:2.0
PRODID:-//Agencia Actívate - ECPv6.8.3//NONSGML v1.0//EN
CALSCALE:GREGORIAN
METHOD:PUBLISH
X-ORIGINAL-URL:https://agenciaactivate.cl
X-WR-CALDESC:Eventos para Agencia Actívate
REFRESH-INTERVAL;VALUE=DURATION:PT1H
X-Robots-Tag:noindex
X-PUBLISHED-TTL:PT1H
BEGIN:VTIMEZONE
TZID:Asia/Dubai
BEGIN:STANDARD
TZOFFSETFROM:+0400
TZOFFSETTO:+0400
TZNAME:+04
DTSTART:20240101T000000
END:STANDARD
END:VTIMEZONE
BEGIN:VEVENT
DTSTART;TZID=Asia/Dubai:20241113T090000
DTEND;TZID=Asia/Dubai:20241113T130000
DTSTAMP:20260423T111839
CREATED:20241226T060739Z
LAST-MODIFIED:20250128T224009Z
UID:14049-1731488400-1731502800@agenciaactivate.cl
SUMMARY:Gran Corrida - Media Maratón TPA 2024
DESCRIPTION:Agencia Actívate impulsa la Marca Cementos Bío Bío en la Media Maratón TPA 2024\nAgencia Actívate estará presente en la Media Maratón TPA 2024\, liderando las activaciones de marca para Cementos Bío Bío\, sponsor oficial del evento. Con un enfoque creativo y estratégico\, nuestro equipo diseñará experiencias dinámicas que reflejan la fuerza y el compromiso de la marca con el deporte y la comunidad. Estaremos con actividades interactivas para que los asistentes vivan de cerca la esencia de Cementos Bío Bío\, espacios visuales únicos que capturen los mejores momentos del evento y sorpresas exclusivas para participantes y público.\nEstas acciones reflejan el compromiso de Agencia Actívate por conectar marcas con las personas\, creando experiencias memorables que fortalecen su identidad.\n¡Te esperamos en la Media Maratón para vivir esta increíble jornada juntos!
URL:https://agenciaactivate.cl/event/prueba-de-creacion-de-eventos
LOCATION:Arica\, Av. Máximo Lira 389\, Arica\, Arica\, Chile
CATEGORIES:Anfitriones
ATTACH;FMTTYPE=image/jpeg:https://agenciaactivate.cl/wp-content/uploads/2024/12/IMG_4997-scaled-e1735186325731.jpg
ORGANIZER;CN="TPA - Terminal Puerto Arica":MAILTO:contacto@tpa.cl
END:VEVENT
END:VCALENDAR